Workbook

Sheet TALDNY Officers
A1: The American Legion Department of New York
A2: 2026 - 2027 Directory
A3: Department Officers
A4: Title | B4: Last Name | C4: First Name | D4: Email | E4: Phone
A5: Commander | B5: Schreck | C5: Thomas | D5: commander@nylegion.org | E5: 518-463-2215
A6: 1st & 9th District Vice Commander | B6: Del-Debbio | C6: Peter | D6: soldier4ever@msn.com
A7: 2nd & 10th District Vice Commander | B7: Colon | C7: Frank | D7: mfcolon517@aol.com
A8: 3rd & 4th District Vice Commander | B8: Patnode | C8: Joseph | D8: jrpatnode@outlook.com
A9: 5th & 6th District Vice Commander | B9: Fawcett | C9: Cassandra | D9: cassandra_fawcett@yahoo.com
A10: 7th & 8th District Vice Commander | B10: Forman | C10: Arthur | D10: asferieco@gmail.com
A11: Adjutant | B11: Schacher | C11: Gary | D11: gary@nylegion.org | E11: 518-463-2215
A12: Treasurer | B12: Erwin | C12: Catherine | D12: autonomous@1791.com
A13: Chaplain | B13: McIntyre | C13: Rev. Mattie | D13: all4him@netsync.net
A14: Historian | B14: Williams | C14: Andrew | D14: ajwaw11@yahoo.com
A15: Judge Advocate | B15: Garvey | C15: Kathleen | D15: kgarvey@kgarveylaw.com
A16: National Executive Committeeman
A17: Alternate National Executive Committeeman | B17: Yermas | C17: James | D17: junglejim701@msn.com
A18: Master-At-Arms | B18: Folk | C18: Margaret | D18: shebearmk@roadrunner.com
A19: Department of New York Headquarters Staff
A20: Title | B20: Last Name | C20: First Name | D20: Email | E20: Phone
A21: Office Director | B21: Rounds | C21: Anne | D21: arounds@nylegion.org | E21: 518-463-2215
A22: Boys' State Program Coordinator | B22: Brown | C22: Ann | D22: ann@nylegion.org | E22: 518-463-2215
A23: Membership Coordinator | B23: Harden | C23: Cassi | D23: cassi@nylegion.org | E23: 518-463-2215
A24: SAL Membership | B24: LaHaise | C24: Charlie | D24: charlie@nylegion.org | E24: 518-463-2215
A25: Programs Coordinator | B25: Clairmont | C25: Karissa | D25: kclairmont@nylegion.org | E25: 518-463-2215
A26: Statewide DSO | B26: Fisher | C26: Eilene | D26: dsofisher@nylegion.org | E26: 518-463-2215
A27: Administrative Assistant | B27: Secor | C27: Ken | D27: ksecor@nylegion.org | E27: 518-463-2215
A28: District Officers
A29: Title | B29: Last Name | C29: First Name | D29: Email | E29: Phone
A30: 1st District
A31: Commander | B31: Tang | C31: Harvard | D31: h.tang@hotmail.com | E31: 917-886-1904
A32: Vice Commander | B32: Brown | C32: Trenton | D32: det2525@aol.com | E32: 646-477-9201
A33: Adjutant | B33: Mui | C33: Gabe | D33: gabe_mui@yahoo.com | E33: 516-732-3472
A34: 2nd District
A35: Commander | B35: Kelly | C35: Mark | D35: slow.hand@verizon.net | E35: 347-733-6758
A36: Vice Commander | B36: Wrigley | C36: Raymond | D36: raywrig@yahoo.com | E36: 917-797-4349
A37: Adjutant | B37: Fazzio | C37: Frank J. | D37: Fjfazzio311@gmail.com | E37: 917-837-7071
A38: 3rd District
A39: Commander | B39: Lopez | C39: Michael | D39: mikelopez.3dlegion@gmail.com | E39: 845-721-6948
A40: Vice Commander | B40: Blake | C40: Hugh | D40: hughjblake@aol.com | E40: 518-610-1974
A41: Adjutant | B41: Faulkner | C41: Elijah | D41: falknerelijah.falkner@gmail.com | E41: 518-821-0393
A42: 4th District
A43: Commander | B43: Fisher | C43: Gary | D43: fgary2191@gmail.com | E43: 518-222-7536
A44: Vice Commander | B44: Lockhart | C44: David | D44: locksox@yahoo.com | E44: 518-588-7635
A45: Adjutant | B45: Donnelly | C45: Kathy | D45: kdlamps@yahoo.com | E45: 518-480-1183
A46: 5th District
A47: Commander | B47: Flynn | C47: Lucinda | D47: johnflynnjr57@yahoo.com | E47: 315-771-3600
A48: Vice Commander | B48: Ulin | C48: Richard | D48: scullyrb@yahoo.com | E48: 315-360-2090
A49: Adjutant | B49: Graham | C49: Chuck | D49: chuckcgraham@msn.com | E49: 315-658-2830
A50: 6th District
A51: Commander | B51: Lamouret | C51: David G. | D51: dlamouret@live.com | E51: 607-435-1668
A52: Vice Commander | B52: Moats Riggs | C52: Michele | D52: michelemoats26@gmail.com | E52: 503-881-1881
A53: Adjutant | B53: Svoboda | C53: Patricia | D53: alnypost216@gmail.com | E53: 845-586-3563
A54: 7th District
A55: Commander | B55: Coleman | C55: William | D55: bill.coleman@alstomgroup.com | E55: 607-329-0430
A56: Vice Commander | B56: Perkins | C56: Joseph | D56: josephmichaelperkins@gmail.com | E56: 585-354-7118
A57: Adjutant | B57: Starz | C57: Marjorie | D57: marjoriestarz@gmail.com | E57: 607-769-2729
A58: 8th District
A59: Commander | B59: Jones | C59: Michael | D59: mixermike829@gmail.com | E59: 716-474-2419
A60: Vice Commander | B60: Balbierz | C60: Theodore | D60: tedb06@verizon.net | E60: 716-534-6288
A61: Adjutant | B61: Burdick | C61: Allie | D61: allie@southerntiertrailer.com | E61: 716-338-7073
A62: 9th District
A63: Commander | B63: Athanas | C63: Michael | D63: sogybottom@aol.com | E63: 845-233-5999
A64: Vice Commander | B64: Gallipoli | C64: Vincent | D64: vfg000@gmail.com | E64: 845-283-7500
A65: Adjutant | B65: John | C65: Adam | D65: legion@sterlingsolved.com | E65: 914-623-8433
A66: 10th District
A67: Commander | B67: Robesch | C67: Robert | D67: rrobesch@optonline.net | E67: 516-330-0041
A68: Vice Commander | B68: Brunner | C68: Joseph | D68: joseph.brunner8404@gmail.com | E68: 516-315-1553
A69: Adjutant | B69: Eaton | C69: Kevin | D69: kaeaton760@outlook.com | E69: 631-672-0271
A70: County Officers
A71: Title | B71: Last Name | C71: First Name | D71: Email | E71: Phone
A72: Albany County
A73: Commander | B73: Secor | C73: Ken | D73: kenscott25@gmail.com | E73: 518-421-5710
A74: Vice Commander | B74: Falconio | C74: Leo | D74: leoj@nycap.rr.com | E74: 518-560-9634
A75: Adjutant | B75: Morisseau | C75: Robert | D75: ramorisseau@hotmail.com | E75: 518-331-3607
A76: Allegany County
A77: Commander
A78: Vice Commander
A79: Adjutant
A80: Bronx County
A81: Commander | B81: Garcia | C81: Ricardo | D81: ricargr2@gmail.com | E81: 917-557-2145
A82: Vice Commander | B82: Gerbino | C82: Dennis
A83: Adjutant | B83: DeFrancis | C83: Gene | D83: bxdefrancis@gmail.com | E83: 607-372-0031
A84: Broome County
A85: Commander | B85: Jaworski | C85: Henry E. | D85: hjaws99@gmail.com | E85: 607-727-3767
A86: Vice Commander | B86: Marsh | C86: Gary | D86: mgary0301@gmail.com | E86: 607-772-5832
A87: Adjutant | B87: Nedlik | C87: Thomas | D87: tnedlik@aol.com | E87: 607-651-8174
A88: Canada County
A89: Commander
A90: Vice Commander
A91: Adjutant
A92: Cattaraugus County
A93: Commander | B93: Ratzel | C93: Timothy | D93: timratzel@gmail.com | E93: 585-307-8491
A94: Vice Commander | B94: McCord | C94: Steve | D94: semccord@cattco.org | E94: 716-801-5906
A95: Adjutant | B95: Burdick | C95: Allie W. | D95: allie@southerntiertrailer.com | E95: 716-338-7073
A96: Cayuga County
A97: Commander | B97: Jenner | C97: Adelbert | D97: ajenner001@twcny.rr.com | E97: 315-776-5133
A98: Vice Commander | B98: Dabulewicz | C98: Joanne | E98: 315-497-0546
A99: Adjutant | B99: Walters | C99: Roger | D99: rogerwalt911@yahoo.com | E99: 315-252-8314
A100: Chautauqua County
...

Sheet Dept Committees
A1: The American Legion Department of New York
A2: 2026 - 2027 Directory
A3: Committee Chairs
A4: Title | B4: Last Name | C4: First Name | D4: Contact Info
A5: American Legion College, Dean | B5: Collmer | C5: Timothy | D5: tcollmer70@gmail.com
A6: American Legion Riders | B6: Neal | C6: Patrick | D6: alrdirector@nylegion.org
A7: Americanism | B7: Newton | C7: Keith | D7: keithlnewton@hotmail.com
A8: Audit - Internal | B8: Porempski | C8: Joe | D8: skisbees@earthlink.net
A9: Back to God | B9: Conway | C9: Robert | D9: conwayrobert58@gmail.com
A10: Baseball | B10: Macchione | C10: Michael | D10: nysalb@gmail.com
A11: Blood Donor | B11: Weaver | C11: Kenneth | D11: kjweaver@frontiernet.net
A12: Bowling | B12: Turck | C12: Ritchie | D12: ritchie.turck2012@yahoo.com
A13: Children & Youth | B13: Forman | C13: Arthur | D13: asferieco@gmail.com
A14: Constitution & By-Laws | B14: Peters | C14: Frank | D14: frankjpeters@aol.com
A15: Compliance | B15: McCarthy | C15: Dennis | D15: mccarthyobx@gmail.com
B16: Balberiz | C16: Ted | D16: tedb06@verizon.net
A17: Convention | B17: Bojanowski | C17: James | D17: jimboj799@aol.com
A18: Education & Scholarship | B18: Forman | C18: Arthur | D18: asferieco@gmail.com
B19: Rodriguez | C19: Michael | D19: sprspic@aol.com
A20: Employment | B20: Haines | C20: William | D20: usnret05@gmail.com
A21: Energy & Convservation | B21: Wagner | C21: Thomas | D21: tompost1006@yahoo.com
A22: Family Support/Heroes to Hometowns | B22: Kindle | C22: Kathryn | D22: kkindle@hotmail.com
A23: Finance | B23: French | C23: Jeffrey | D23: jwfrench@verizon.net
A24: Foreign Relations | B24: Mui | C24: Gabe | D24: gabe_mui@yahoo.com
A25: Golf Tournament | B25: Krummins | C25: Auseklis | D25: ause91a068@yahoo.com
A26: Homeland Security & Civil Preparedness | B26: Diaz | C26: Juan | D26: jdiaz65748@gmail.com
A27: Jr. Shooting Sports Program | B27: Willard | C27: Thomas | D27: msgt8511@hotmail.com
A28: Law & Order | B28: Nelson | C28: Cynthia | D28: cnelson5@rochester.rr.com
B29: French | C29: Jeffrey | D29: jwfrench@verizon.net
A30: Legionnaire of the Year Award | B30: Ferris | C30: Victoria | D30: vicki.ferris4@gmail.com
A31: Legislative | B31: Hinkleman | C31: C. Lee | D31: sarge8488@gmail.com
B32: McCarthy | C32: Colleen | D32: colleenusmc1@aol.com
A33: Membership | B33: Patnode | C33: Joseph | D33: jrpatnode@outlook.com
A34: Mid-Winter Conference | B34: Falconio | C34: Leo | D34: leoj@nycap.rr.com
A35: National Security | B35: Del-Debbio | C35: Peter | D35: soldier4ever@msn.com
A36: Oratorical | B36: Paternostro | C36: Anthony | D36: paternosal@aol.com
A37: POW/MIA Liasion | B37: Koster | C37: Keith | D37: kjkoster@outlook.com
A38: Protocol | B38: DeKraai | C38: Eric | D38: eric@dekraai.com
A39: Public Relations | B39: Stronach | C39: Robert | D39: editorrob@yahoo.com
A40: Resolutions | B40: Peters | C40: Frank J. | D40: frankjpeters@aol.com
A41: SAL Advisor | B41: Van Patten | C41: Timothy S. | D41: tsvpsr@aol.com
A42: Scouting | B42: Williams | C42: Jean | D42: jwilliams3212@yahoo.com
B43: Stevens | C43: Heather | D43: heathercsq@gmail.com
A44: VAVS | B44: Fisher | C44: Eilene | D44: dsofisher@nylegion.org
A45: Membership Task Force
A46: Title | B46: Last Name | C46: First Name | D46: Contact Info
A47: Chairman | B47: Patnode | C47: Joseph
A48: Vice Chairman
A49: Post 0001
A50: PDC Consultant
A51: PDC Consultant
A52: District Coordinators
A53: 1st District | B53: Ramirez | C53: Miguel | D53: migueljr114@yahoo.com
A54: 2nd District | B54: Wrigley | C54: Raymond | D54: raywrig@yahoo.com
A55: 3rd District | B55: Blake | C55: Hugh | D55: hughblake@aol.com
A56: 4th District | B56: Patnode | C56: Joe | D56: jrpatnode@outlook.com
A57: 5th District | B57: Ulin | C57: Richard | D57: scullyrb@yahoo.com
A58: 6th District | B58: Moats Riggs | C58: Michele | D58: michelemoats26@gmail.com
A59: 7th District | B59: Perkins | C59: Joseph | D59: josephmichaelperkins@gmail.com
A60: 8th District | B60: Balbierz | C60: Theodore | D60: tedb06@verizon.net
A61: 9th District | B61: Cosentino | C61: Larry | D61: lnj.cosentino@gmail.com
A62: 10th District | B62: Tartaglione | C62: Fred | D62: ftartag@optonline.net
A63: Boys' State
A64: Title | B64: Last Name | C64: First Name | D64: Contact Info
A65: President | B65: Schreck | C65: Thomas | D65: commander@nylegion.org
A66: Vice President | B66: Garvey | C66: Kathleen | D66: kgarvey@kgarveylaw.com
A67: Secretary | B67: Schacher | C67: Gary | D67: gary@nylegion.org
A68: Treasurer | B68: Erwin | C68: Catherine | D68: autonomous@1791.com
A69: Executive Director | B69: Cariddo | C69: David | D69: nyg6370@aol.com
A70: Program Director | B70: Hood | C70: Sean
A71: Public Relations Director | B71: Neville | C71: Robert | D71: nevlegion@aol.com
A72: Department Vice Commanders
A73: 1st & 9th District Vice Commander | B73: ='TALDNY Officers'!B6 -> Del-Debbio | C73: ='TALDNY Officers'!C6 -> Peter | D73: ='TALDNY Officers'!D6 -> soldier4ever@msn.com
A74: 2nd & 10th District Vice Commander | B74: ='TALDNY Officers'!B7 -> Colon | C74: ='TALDNY Officers'!C7 -> Frank | D74: ='TALDNY Officers'!D7 -> mfcolon517@aol.com
A75: 3rd & 4th District Vice Commander | B75: ='TALDNY Officers'!B8 -> Patnode | C75: ='TALDNY Officers'!C8 -> Joseph | D75: ='TALDNY Officers'!D8 -> jrpatnode@outlook.com
A76: 5th & 6th District Vice Commander | B76: ='TALDNY Officers'!B9 -> Fawcett | C76: ='TALDNY Officers'!C9 -> Cassandra | D76: ='TALDNY Officers'!D9 -> cassandra_fawcett@yahoo.com
A77: 7th & 8th District Vice Commander | B77: ='TALDNY Officers'!B10 -> Forman | C77: ='TALDNY Officers'!C10 -> Arthur | D77: ='TALDNY Officers'!D10 -> asferieco@gmail.com
A78: District Directors
A79: 1st District | B79: McNerney | C79: Michael | D79: mcnerneyccca@gmail.com
A80: 2nd District
A81: 3rd District | B81: Reinhardt | C81: Kirk | D81: kpreinhardt@gmail.com
A82: 4th District | B82: Folk | C82: Margaret | D82: shebearmk@roadrunner.com
A83: 5th District | B83: Dingman | C83: Dale | D83: dingman@ridgeviewtel.us
A84: 6th District | B84: Lamouret | C84: Dave | D84: dlamouret@live.com
A85: 7th District | B85: Foster | C85: Steven | D85: hornellfd50@gmail.com
A86: 8th District | B86: Deinzer | C86: Thomas | D86: tdeinz@gmail.com
A87: 9th District | B87: Hathorn | C87: Kevin | D87: kevinhathorn@fastmail.com
A88: 10th District | B88: Eaton | C88: Kevin | D88: kaeaton760@outlook.com
A89: American Legion Riders
B90: Last Name | C90: First Name | D90: Contact Info
A91: Director | B91: ='Dept Committees'!B6 -> Neal | C91: =C6 -> Patrick | D91: =D6 -> alrdirector@nylegion.org
A92: Department Vice Directors
A93: 1st & 9th District Vice Director | B93: Diaz | C93: Rico | D93: gricodiaz@optonline.net
A94: 2nd & 10th District Vice Director | B94: Samuel | C94: Dawn | D94: tigger514@outlook.com
A95: 3rd & 4th District Vice Director | B95: Pomerleau | C95: Rick | D95: nomad22@charter.net
A96: 5th & 6th District Vice Director | B96: Morri | C96: Debbie | D96: debk1794@yahoo.com
A97: 7th & 8th District Vice Director | B97: Sorenson | C97: Mark | D97: masorenson@yahoo.com
A98: District Coordinators
A99: 1st District | B99: Brown | C99: Trenton | D99: det2525@aol.com
A100: 2nd District
...

Sheet Dist Committee
A1: The American Legion Department of New York
A2: 2026 - 2027 Directory
A3: American Legion College
B4: Last Name | C4: First Name | D4: Contact Info
A5: Chairman | B5: ='Dept Committees'!B5 -> Collmer | C5: ='Dept Committees'!C5 -> Timothy | D5: ='Dept Committees'!D5 -> tcollmer70@gmail.com
A6: District Coordinators
A7: 1st District | B7: Chen | C7: Bo | D7: bo92a@yahoo.com
A8: 2nd District
A9: 3rd District | B9: DeKraai | C9: Eric | D9: eric@dekraai.com
A10: 4th District
A11: 5th District | B11: Riley Sr | C11: David | D11: rileydrsr@hotmail.com
A12: 6th District | B12: Gardner | C12: Robert | D12: nyamleg974@gmail.com
A13: 7th District | B13: Timothy | C13: Collmer | D13: tcollmer70@gmail.com
A14: 8th District | B14: Bojanowski | C14: Jim | D14: veteran14202@verizon.net
A15: 9th District | B15: Morea | C15: Dan | D15: d.morea@aol.com
A16: 10th District | B16: Pankowski | C16: Mike | D16: mikebets@optonline.net
A17: Americanism
B18: Last Name | C18: First Name | D18: Contact Info
A19: Chairman | B19: ='Dept Committees'!B7 -> Newton | C19: ='Dept Committees'!C7 -> Keith | D19: ='Dept Committees'!D7 -> keithlnewton@hotmail.com
A20: District Coordinators
A21: 1st District | B21: Ong | C21: Tommy | D21: tom4al@gmail.com
A22: 2nd District
A23: 3rd District | B23: Burrall | C23: Thomas | D23: tburre6@aol.com
A24: 4th District
A25: 5th District | B25: Wallace | C25: Judy | D25: brownchalupa1990@gmail.com
A26: 6th District | B26: Riter | C26: Fran | D26: franriter@rrbwinc.com
A27: 7th District | B27: Sisson | C27: Donald | D27: msgret96@yahoo.com
A28: 8th District | B28: Newton | C28: Keith | D28: keithlnewton@hotmail.com
A29: 9th District | B29: John | C29: Adam | D29: legion@sterlingsolved.com
A30: 10th District | B30: Ficalora | C30: Alfred | D30: bigalfig3@hotmail.com
A31: Back to God
B32: Last Name | C32: First Name | D32: Contact Info
A33: Chairman | B33: ='Dept Committees'!B9 -> Conway | C33: ='Dept Committees'!C9 -> Robert | D33: ='Dept Committees'!D9 -> conwayrobert58@gmail.com
A34: District Coordinators
A35: 1st District | B35: John Lanci | C35: John | D35: jiancix2@aol.com
A36: 2nd District
A37: 3rd District | B37: Lanci | C37: John | D37: jiancix2@aol.com
A38: 4th District | B38: Malone | C38: Mike | D38: mfmalone1946@yahoo.com
A39: 5th District | B39: Constantini | C39: Walt | D39: wconstantini1@twcny.rr.com
A40: 6th District | B40: Conway | C40: Robert | D40: conwayrobert58@gmail.com
A41: 7th District | B41: Corwin | C41: Connie | D41: corwin1830@gmail.com
A42: 8th District | B42: Colt | C42: Barbara | D42: barbaraacolt@gmail.com
A43: 9th District | B43: Sweeney | C43: Fr Robert | D43: frptliny@yahoo.com
A44: 10th District | B44: Jordan | C44: Neil | D44: redleg258@yahoo.com
A45: Baseball
B46: Last Name | C46: First Name | D46: Contact Info
A47: Chairman | B47: ='Dept Committees'!B10 -> Macchione | C47: ='Dept Committees'!C10 -> Michael | D47: ='Dept Committees'!D10 -> nysalb@gmail.com
A48: District Coordinators
A49: 1st District | B49: Kleszczewski | C49: Nick | D49: nyknicky@hotmail.com
A50: 2nd District
A51: 3rd District | B51: George Apostol | C51: George | D51: gma58193@aol.com
A52: 4th District
A53: 5th District
A54: 6th District | B54: Martinkovic | C54: Dave | D54: dmartinkovic@hotmail.com
A55: 7th District | B55: Sisson | C55: Donald | D55: msgret96@yahoo.com
A56: 8th District
A57: 9th District | B57: Cariddo | C57: David | D57: nyg6370@aol.com
A58: 10th District
A59: Blood Donor
B60: Last Name | C60: First Name | D60: Contact Info
A61: Chairman | B61: ='Dept Committees'!B11 -> Weaver | C61: ='Dept Committees'!C11 -> Kenneth | D61: ='Dept Committees'!D11 -> kjweaver@frontiernet.net
A62: District Coordinators
A63: 1st District | B63: Pang | C63: Henry | D63: premierpang@gmail.com
A64: 2nd District
A65: 3rd District | B65: Blake | C65: Hugh | D65: hughblake@aol.com
A66: 4th District
A67: 5th District | B67: Gravely | C67: Janice | D67: gijan@driecymycompass.com
A68: 6th District | B68: Souder | C68: Terri | D68: mamamoose@yahoo.com
A69: 7th District | B69: Mason | C69: Timothy | D69: whitewolf201395@gmail.com
A70: 8th District | B70: Kindle | C70: Kathryn | D70: kkindle@hotmail.com
A71: 9th District
A72: 10th District | B72: Robesch | C72: Robert | D72: rrobesch@optonline.net
A73: Bowling
B74: Last Name | C74: First Name | D74: Contact Info
A75: Chairman | B75: ='Dept Committees'!B12 -> Turck | C75: ='Dept Committees'!C12 -> Ritchie | D75: ='Dept Committees'!D12 -> ritchie.turck2012@yahoo.com
A76: District Coordinators
A77: 1st District | B77: Chin | C77: Arvin | D77: thouscrable@aol.com
A78: 2nd District
A79: 3rd District | B79: Savino Sr | C79: Donald | D79: hilltopdon@aol.com
A80: 4th District
A81: 5th District | B81: Wallace Jr | C81: Edward | D81: zachman9221@gmail.com
A82: 6th District | B82: Knapp | C82: John | D82: jknapp21@yahoo.com
A83: 7th District | B83: Grela | C83: Stan | D83: ltcgrela@yahoo.com
A84: 8th District | B84: Siefert | C84: John | D84: jpsiefert@yahoo.com
A85: 9th District
A86: 10th District
A87: Children & Youth
B88: Last Name | C88: First Name | D88: Contact Info
A89: Chairman | B89: ='Dept Committees'!B13 -> Forman | C89: ='Dept Committees'!C13 -> Arthur | D89: ='Dept Committees'!D13 -> asferieco@gmail.com
A90: District Coordinators
A91: 1st District | B91: Artz | C91: Gerald | D91: gartz2@verizon.net
A92: 2nd District
A93: 3rd District | B93: Fisher | C93: Thomas | D93: tmcja@yahoo.com
A94: 4th District
A95: 5th District | B95: Dingman | C95: Dale | D95: dingman@ridgeviewtel.us
A96: 6th District | B96: Mackin | C96: Leo | D96: lmackin279@gmail.com
A97: 7th District | B97: Collmer | C97: Timothy | D97: tcollmer70@gmail.com
A98: 8th District | B98: Newton | C98: Keith | D98: keithnewton@hotmail.com
A99: 9th District | B99: Oser | C99: Jerod | D99: jerroldposersr@msn.com
A100: 10th District | B100: Damato | C100: John | D100: sewerman@aol.com
...

Sheet PDCs
A1: The American Legion Department of New York
A2: 2026 - 2027 Directory
A3: Past Department Commanders
A4: Year | B4: Name | C4: County
A5: 1997 - 1998 | B5: Robert Neville | C5: Suffolk
A6: 1998 - 1999 | B6: Robert Morrill | C6: Monroe
A7: 2002 - 2003 | B7: Fang Wong | C7: New York
A8: 2003 - 2004 | B8: Charles Herschlag | C8: Erie
A9: 2006 - 2007 | B9: James Casey | C9: Queens
A10: 2008 - 2009 | B10: Edward Bertrand | C10: Essex
A11: 2009 - 2010 | B11: William Kearsing | C11: Albany
A12: 2010 - 2011 | B12: V. James Troiola | C12: Rockland
A13: 2011 - 2012 | B13: W. Michael Bowen | C13: Seneca
A14: 2012 - 2013 | B14: Timothy S. Van Patten | C14: Erie
A15: 2014 - 2015 | B15: Frank J. Peters | C15: Richmond
... A23: 2025 - 2026 | B23: John R. Miga | C23: Chautauqua
A24: Past Department Commanders (Deceased)
A25: Year | B25: Name | C25: County
A26: 1919 | B26: C.W. Wickersham | C26: New York
A27: 1919 | B27: Ogden L. Mills | C27: New York
A28: 1920 | B28: Russell E. Sard | C28: Albany
A29: 1920 - 1921 | B29: Wade H. Hayes | C29: New York
A30: 1921 - 1922 | B30: William F. Deegan | C30: Bronx
A31: 1922 - 1923 | B31: Albert S. Callan | C31: Columbia
A32: 1923 - 1924 | B32: Edward P. Spafford | C32: New York
A33: 1924 - 1925 | B33: Samuel E. Aronowitz | C33: Albany
A34: 1925 - 1926 | B34: Harry C. Wilder | C34: Onondaga
A35: 1926 - 1927 | B35: Arthur E. Brundage | C35: Orange
A36: 1927 - 1928 | B36: William F. Schohl | C36: Erie
A37: 1928 - 1929 | B37: Douglas I. McKay | C37: Westchester
A38: 1929 - 1930 | B38: John J. Bennett | C38: Kings
A39: 1930 - 1931 | B39: Edward J. Neary | C39: Nassau
A40: 1931 - 1932 | B40: Moses G. Hubbard | C40: Oneida
... A118: 2019 - 2021 | B118: Michael McDermott | C118: Cortland

Sheet Important Dates
A1: The American Legion Department of New York
A2: 2026 - 2027 Directory
A3: Department Important Dates
A4: Event | B4: Location | C4: Dates
A5: National Commander's Visits - Fall | B5: Districts 5, 6, 7, 8 | C5: October 8 - 11, 2026
A6: Mid-Winter Conference | B6: Albany, NY | C6: January 15 - 17, 2027
A7: Oratorical Contest & Banquet | B7: Albany, NY | C7: March 5 - 6, 2027
A8: Oratorical Snow Dates | C8: March 12 - 13, 2027
A9: National Commander's Visits - Spring | B9: Districts 3&4, 1, 2, 9, 10 | C9: April 7 - 10, 2027
A10: Bowling Tournament | B10: TBD | C10: TBD
A11: American Legion DNY Homecoming | B11: TBD | C11: TBD
A12: American Legion College | B12: SUNY Morisville | C12: June 4 - 6, 2027
A13: American Legion Boys' State | B13: SUNY Morisville | C13: June 26 - July 1, 2027
A14: Department Convention | B14: Syracuse, NY | C14: July 14 - 17, 2027
A15: Golf Tournament | B15: TBD | C15: August 6, 2027
A16: National Important Dates
A17: Event | B17: Location | C17: Dates
A18: National Fall Meetings | B18: Indianapolis, IN | C18: October 5 - 8, 2026
A19: Washington Conference | C19: February 28 - March 3, 2027
A20: National Spring Meetings | B20: Indianapolis, IN | C20: May 3 - 6, 2027
A21: National Oratorical Contest Finals | B21: Hiilsdale College, IL | C21: May 14 - 16, 2027
A22: American Legion Boys' Nation | B22: Washington, DC | C22: July 18 - 24, 2027
A23: Jr Shooting Sports National Chamionship | B23: Hillsdale College, MI | C23: July 20 - 25, 2027
A24: National Membership Workshop | C24: July 30 - 31, 2027
A25: American Legion Baseball World Series | B25: Shelby, NC | C25: August 8 - 14, 2027
A26: American Legion Legacy Run | C26: August 22 - 26, 2027
A27: National Convention | B27: Kansas City, MO | C27: August 27 - September 2, 2027
A28: Combined Americanism Conference | C28: September 17 - 19, 2027
A29: National Fall Meetings | B29: Indianapolis, IN | C29: October 4 - 7, 2027
A30: National American Legion College | C30: November 14 - 19, 2027
A31: Department Holidays - Department HQ Closed
A32: Holiday | B32: Dates Closed
A33: Labor Day | B33: 46272
A34: Columbus Day | B34: 46307
A35: Veterans' Day | B35: 46337
A36: Thanksgiving | B36: November 26 - 27, 2026
A37: Christmas | B37: December 23 - 25, 2026
A38: New Year's Eve | B38: December 30 - 31, 2026
A39: New Year's Day | B39: 46388
A40: Martin Luther King Day | B40: 46405
A41: President's Day | B41: 46433
A42: Memorial Day | B42: 46538
A43: Juneteenth | B43: 46557
A44: Independence Day | B44: July 5, 2027 (Observed)
A45: Labor Day | B45: 46636
A46: Columbus Day | B46: 46671
A47: Veterans' Day | B47: 46702
A48: Thanksgiving | B48: November 25 - 26, 2027
A49: Christmas | B49: December 23 - 24, 2027
A50: New Year's Eve | B50: December 30 - 31, 2027

Sheet SOOTY
A1: The American Legion Department of New York
A2: 2026 - 2027 Directory
A3: Service Officer of the Year Award Winners
A4: Year | B4: Service Officer | C4: Post | D4: County | E4: District
A5: 1998 | B5: Robert G. Mitchell | C5: Adirondack Post 70 | D5: Saratoga | E5: 4th
A6: 1999 | B6: Edward L. Mazzochi | C6: Argyle Post 1518 | D6: Washington | E6: 4th
A7: 2000 | B7: Derek M. Davey | C7: Beaver River Memorial Post 1663 | D7: Lewis | E7: 5th
A8: 2001 | B8: Warren J. Manor | C8: Plattsburgh Post 20 | D8: Clinton | E8: 4th
A9: 2002 | B9: Jerold A. Klein | C9: Northport Post 694 | D9: Suffolk | E9: 10th
A10: 2003 | B10: Robert B. Whitbeck | C10: Greenville Post 291 | D10: Greene | E10: 3rd
A11: 2004 | B11: Franklin E. Tower | C11: Butts-Clark Post 204 | D11: Orleans | E11: 8th
A12: 2005 | B12: James A. Carra | C12: James Cooke Post 931 | D12: Ontario | E12: 7th
A13: 2006 | B13: Albert D. Ramsey | C13: Frank A. Rea Post 1163 | D13: Westchester | E13: 9th
A14: 2007 | B14: John B. Sampson | C14: Hughes-Skiba Post 535 | D14: Cattaraugus | E14: 8th
A15: 2008 | B15: P. Earle Gleason | C15: Johnson-Costello Post 355 | D15: Yates | E15: 7th
A16: 2009 | B16: Ronald Romaszka | C16: Wilson Ritch Post 432 | D16: Suffolk | E16: 10th
... A33: 2026 | B33: Steve McCord | C33: Hughes-Skiba Post 535 | D33: Cattaraugus | E33: 8th

Sheet LOTY
A1: The American Legion Department of New York
A2: 2026 - 2027 Directory
A3: Legionnaire of the Year Award Winners
A4: Year | B4: Service Officer | C4: Post | D4: County | E4: District
A5: 1981 | B5: Donald Heath | C5: Honeyford Memorial Post 110 | D5: Greene | E5: 3rd
A6: 1982 | B6: Estelle Mohr | C6: Staten Island Women's Post 1598 | D6: Richmond | E6: 2nd
A7: 1983 | B7: Edward Lawrence | C7: Kirk-Casey Post 366 | D7: Seneca | E7: 7th
A8: 1984 | B8: James A. Capasso | C8: Henry Cornell Post 234 | D8: Saratoga | E8: 4th
A9: 1985 | B9: Howard Bushart | C9: Williamson Post 394 | D9: Wayne | E9: 7th
A10: 1986 | B10: Frederick C. Schmaling | C10: Port Chester Post 93 | D10: Westchester | E10: 9th
A11: 1987 | B11: Levi Bentley | C11: Johnson-Costello Post 355 | D11: Yates | E11: 7th
A12: 1988 | B12: David Ossman | C12: Leo Laders Post 130 | D12: Rockland | E12: 9th
A13: 1989 | B13: Vincent J. Tripi | C13: Harvey L. Brady Post 354 | D13: Livingston | E13: 7th
A14: 1990 | B14: Albert A. Sheldrake | C14: Medos A. Nelson Post 504 | D14: Clinton | E14: 4th
A15: 1991 | B15: Helen G. Jacob | C15: Erieco Women's Post 1586 | D15: Erie | E15: 8th
A16: 1992 | B16: Francis R. Tripi | C16: Harvey L. Brady Post 354 | D16: Livingston | E16: 7th
... A50: 2026 | B50: Thomas Fisher | C50: Hudson, Inc. Post 184 | D50: Columbia | E50: 3rd

Sheet Information Links
A1: The American Legion Department of New York
A2: 2026 - 2027 Directory
A3: For Further Information, Plase Click the Link Below
A4: Information | B4: Link
A5: 2026 - 2027 Department Visitation Calender | B5: 26-27 Dept Visitation Calendar
A7: SAL Detachment of New York Website | B7: Detachment of New York Sons of The American Legion
A9: ALA Department of New York Website | B9: American Legion Auxiliary | Department of New York
A11: National American Legion Website | B11: www.legion.org
A13: Boys' State of New York Website | B13: boysstateny.org
