Workbook

Sheet TALDNY Officers
A1: The American Legion Department of New York
A2: 2026 - 2027 Directory
A3: Department Officers
A4: Title | B4: Last Name | C4: First Name | D4: Email | E4: Phone
A5: Commander | B5: Schreck | C5: Thomas | D5: commander@nylegion.org | E5: 518-463-2215
A6: 1st & 9th District Vice Commander | B6: Del-Debbio | C6: Peter | D6: soldier4ever@msn.com
A7: 2nd & 10th District Vice Commander | B7: Colon | C7: Frank | D7: mfcolon517@aol.com
A8: 3rd & 4th District Vice Commander | B8: Patnode | C8: Joseph | D8: jrpatnode@outlook.com
A9: 5th & 6th District Vice Commander | B9: Fawcett | C9: Cassandra | D9: cassandra_fawcett@yahoo.com
A10: 7th & 8th District Vice Commander | B10: Forman | C10: Arthur | D10: asferieco@gmail.com
A11: Adjutant | B11: Schacher | C11: Gary | D11: gary@nylegion.org | E11: 518-463-2215
A12: Treasurer | B12: Erwin | C12: Catherine | D12: autonomous@1791.com
A13: Chaplain | B13: McIntyre | C13: Rev. Mattie | D13: all4him@netsync.net
A14: Historian | B14: Williams | C14: Andrew | D14: ajwaw11@yahoo.com
A15: Judge Advocate | B15: Garvey | C15: Kathleen | D15: kgarvey@kgarveylaw.com
A16: National Executive Committeeman
A17: Alternate National Executive Committeeman | B17: Yermas | C17: James | D17: junglejim701@msn.com
A18: Master-At-Arms | B18: Folk | C18: Margaret | D18: shebearmk@roadrunner.com
A19: Department of New York Headquarters Staff
A20: Title | B20: Last Name | C20: First Name | D20: Email | E20: Phone
A21: Office Director | B21: Rounds | C21: Anne | D21: arounds@nylegion.org | E21: 518-463-2215
A22: Boys' State Program Coordinator | B22: Brown | C22: Ann | D22: ann@nylegion.org | E22: 518-463-2215
A23: Membership Coordinator | B23: Harden | C23: Cassi | D23: cassi@nylegion.org | E23: 518-463-2215
A24: SAL Membership | B24: LaHaise | C24: Charlie | D24: charlie@nylegion.org | E24: 518-463-2215
A25: Programs Coordinator | B25: Clairmont | C25: Karissa | D25: kclairmont@nylegion.org | E25: 518-463-2215
A26: Statewide DSO | B26: Fisher | C26: Eilene | D26: dsofisher@nylegion.org | E26: 518-463-2215
A27: Administrative Assistant | B27: Secor | C27: Ken | D27: ksecor@nylegion.org | E27: 518-463-2215
A28: District Officers
A29: Title | B29: Last Name | C29: First Name | D29: Email | E29: Phone
A30: 1st District
A31: Commander | B31: Tang | C31: Harvard | D31: h.tang@hotmail.com | E31: 917-886-1904
A32: Vice Commander | B32: Brown | C32: Trenton | D32: det2525@aol.com | E32: 646-477-9201
A33: Adjutant | B33: Mui | C33: Gabe | D33: gabe_mui@yahoo.com | E33: 516-732-3472
A34: 2nd District
A35: Commander | B35: Kelly | C35: Mark | D35: slow.hand@verizon.net | E35: 347-733-6758
A36: Vice Commander | B36: Wrigley | C36: Raymond | D36: raywrig@yahoo.com | E36: 917-797-4349
A37: Adjutant | B37: Fazzio | C37: Frank J. | D37: Fjfazzio311@gmail.com | E37: 917-837-7071
A38: 3rd District
A39: Commander | B39: Lopez | C39: Michael | D39: mikelopez.3dlegion@gmail.com | E39: 845-721-6948
A40: Vice Commander | B40: Blake | C40: Hugh | D40: hughjblake@aol.com | E40: 518-610-1974
...

Sheet Dept Committees
A1: The American Legion Department of New York
A2: 2026 - 2027 Directory
A3: Committee Chairs
A4: Title | B4: Last Name | C4: First Name | D4: Contact Info
A5: American Legion College, Dean | B5: Collmer | C5: Timothy | D5: tcollmer70@gmail.com
A6: American Legion Riders | B6: Neal | C6: Patrick | D6: alrdirector@nylegion.org
A7: Americanism | B7: Newton | C7: Keith | D7: keithlnewton@hotmail.com
A8: Audit - Internal | B8: Porempski | C8: Joe | D8: skisbees@earthlink.net
A9: Back to God | B9: Conway | C9: Robert | D9: conwayrobert58@gmail.com
A10: Baseball | B10: Macchione | C10: Michael | D10: nysalb@gmail.com
A11: Blood Donor | B11: Weaver | C11: Kenneth | D11: kjweaver@frontiernet.net
A12: Bowling | B12: Turck | C12: Ritchie | D12: ritchie.turck2012@yahoo.com
A13: Children & Youth | B13: Forman | C13: Arthur | D13: asferieco@gmail.com
A14: Constitution & By-Laws | B14: Peters | C14: Frank | D14: frankjpeters@aol.com
A15: Compliance | B15: McCarthy | C15: Dennis | D15: mccarthyobx@gmail.com
B16: Balberiz | C16: Ted | D16: tedb06@verizon.net
A17: Convention | B17: Bojanowski | C17: James | D17: jimboj799@aol.com
A18: Education & Scholarship | B18: Forman | C18: Arthur | D18: asferieco@gmail.com
B19: Rodriguez | C19: Michael | D19: sprspic@aol.com
A20: Employment | B20: Haines | C20: William | D20: usnret05@gmail.com
A21: Energy & Convservation | B21: Wagner | C21: Thomas | D21: tompost1006@yahoo.com
A22: Family Support/Heroes to Hometowns | B22: Kindle | C22: Kathryn | D22: kkindle@hotmail.com
A23: Finance | B23: French | C23: Jeffrey | D23: jwfrench@verizon.net
A24: Foreign Relations | B24: Mui | C24: Gabe | D24: gabe_mui@yahoo.com
A25: Golf Tournament | B25: Krummins | C25: Auseklis | D25: ause91a068@yahoo.com
A26: Homeland Security & Civil Preparedness | B26: Diaz | C26: Juan | D26: jdiaz65748@gmail.com
A27: Jr. Shooting Sports Program | B27: Willard | C27: Thomas | D27: msgt8511@hotmail.com
A28: Law & Order | B28: Nelson | C28: Cynthia | D28: cnelson5@rochester.rr.com
B29: French | C29: Jeffrey | D29: jwfrench@verizon.net
A30: Legionnaire of the Year Award | B30: Ferris | C30: Victoria | D30: vicki.ferris4@gmail.com
A31: Legislative | B31: Hinkleman | C31: C. Lee | D31: sarge8488@gmail.com
B32: McCarthy | C32: Colleen | D32: colleenusmc1@aol.com
A33: Membership | B33: Patnode | C33: Joseph | D33: jrpatnode@outlook.com
A34: Mid-Winter Conference | B34: Falconio | C34: Leo | D34: leoj@nycap.rr.com
A35: National Security | B35: Del-Debbio | C35: Peter | D35: soldier4ever@msn.com
A36: Oratorical | B36: Paternostro | C36: Anthony | D36: paternosal@aol.com
A37: POW/MIA Liasion | B37: Koster | C37: Keith | D37: kjkoster@outlook.com
A38: Protocol | B38: DeKraai | C38: Eric | D38: eric@dekraai.com
A39: Public Relations | B39: Stronach | C39: Robert | D39: editorrob@yahoo.com
A40: Resolutions | B40: Peters | C40: Frank J. | D40: frankjpeters@aol.com
...

Sheet Dist Committee
A1: The American Legion Department of New York
A2: 2026 - 2027 Directory
A3: American Legion College
B4: Last Name | C4: First Name | D4: Contact Info
A5: Chairman | B5: ='Dept Committees'!B5 -> Collmer | C5: ='Dept Committees'!C5 -> Timothy | D5: ='Dept Committees'!D5 -> tcollmer70@gmail.com
A6: District Coordinators
A7: 1st District | B7: Chen | C7: Bo | D7: bo92a@yahoo.com
A8: 2nd District
A9: 3rd District | B9: DeKraai | C9: Eric | D9: eric@dekraai.com
A10: 4th District
A11: 5th District | B11: Riley Sr | C11: David | D11: rileydrsr@hotmail.com
A12: 6th District | B12: Gardner | C12: Robert | D12: nyamleg974@gmail.com
A13: 7th District | B13: Timothy | C13: Collmer | D13: tcollmer70@gmail.com
A14: 8th District | B14: Bojanowski | C14: Jim | D14: veteran14202@verizon.net
A15: 9th District | B15: Morea | C15: Dan | D15: d.morea@aol.com
A16: 10th District | B16: Pankowski | C16: Mike | D16: mikebets@optonline.net
A17: Americanism
B18: Last Name | C18: First Name | D18: Contact Info
A19: Chairman | B19: ='Dept Committees'!B7 -> Newton | C19: ='Dept Committees'!C7 -> Keith | D19: ='Dept Committees'!D7 -> keithlnewton@hotmail.com
A20: District Coordinators
A21: 1st District | B21: Ong | C21: Tommy | D21: tom4al@gmail.com
A22: 2nd District
A23: 3rd District | B23: Burrall | C23: Thomas | D23: tburre6@aol.com
A24: 4th District
A25: 5th District | B25: Wallace | C25: Judy | D25: brownchalupa1990@gmail.com
A26: 6th District | B26: Riter | C26: Fran | D26: franriter@rrbwinc.com
A27: 7th District | B27: Sisson | C27: Donald | D27: msgret96@yahoo.com
A28: 8th District | B28: Newton | C28: Keith | D28: keithlnewton@hotmail.com
A29: 9th District | B29: John | C29: Adam | D29: legion@sterlingsolved.com
A30: 10th District | B30: Ficalora | C30: Alfred | D30: bigalfig3@hotmail.com
A31: Back to God
B32: Last Name | C32: First Name | D32: Contact Info
A33: Chairman | B33: ='Dept Committees'!B9 -> Conway | C33: ='Dept Committees'!C9 -> Robert | D33: ='Dept Committees'!D9 -> conwayrobert58@gmail.com
A34: District Coordinators
A35: 1st District | B35: John Lanci | C35: John | D35: jiancix2@aol.com
A36: 2nd District
A37: 3rd District | B37: Lanci | C37: John | D37: jiancix2@aol.com
A38: 4th District | B38: Malone | C38: Mike | D38: mfmalone1946@yahoo.com
A39: 5th District | B39: Constantini | C39: Walt | D39: wconstantini1@twcny.rr.com
A40: 6th District | B40: Conway | C40: Robert | D40: conwayrobert58@gmail.com
...

Sheet PDCs
A1: The American Legion Department of New York
A2: 2026 - 2027 Directory
A3: Past Department Commanders
A4: Year | B4: Name | C4: County
A5: 1997 - 1998 | B5: Robert Neville | C5: Suffolk
A6: 1998 - 1999 | B6: Robert Morrill | C6: Monroe
A7: 2002 - 2003 | B7: Fang Wong | C7: New York
A8: 2003 - 2004 | B8: Charles Herschlag | C8: Erie
A9: 2006 - 2007 | B9: James Casey | C9: Queens
A10: 2008 - 2009 | B10: Edward Bertrand | C10: Essex
A11: 2009 - 2010 | B11: William Kearsing | C11: Albany
A12: 2010 - 2011 | B12: V. James Troiola | C12: Rockland
A13: 2011 - 2012 | B13: W. Michael Bowen | C13: Seneca
A14: 2012 - 2013 | B14: Timothy S. Van Patten | C14: Erie
A15: 2014 - 2015 | B15: Frank J. Peters | C15: Richmond
... A23: 2025 - 2026 | B23: John R. Miga | C23: Chautauqua
A24: Past Department Commanders (Deceased)
A25: Year | B25: Name | C25: County
A26: 1919 | B26: C.W. Wickersham | C26: New York
A27: 1919 | B27: Ogden L. Mills | C27: New York
A28: 1920 | B28: Russell E. Sard | C28: Albany
A29: 1920 - 1921 | B29: Wade H. Hayes | C29: New York
A30: 1921 - 1922 | B30: William F. Deegan | C30: Bronx
A31: 1922 - 1923 | B31: Albert S. Callan | C31: Columbia
A32: 1923 - 1924 | B32: Edward P. Spafford | C32: New York
A33: 1924 - 1925 | B33: Samuel E. Aronowitz | C33: Albany
A34: 1925 - 1926 | B34: Harry C. Wilder | C34: Onondaga
A35: 1926 - 1927 | B35: Arthur E. Brundage | C35: Orange
A36: 1927 - 1928 | B36: William F. Schohl | C36: Erie
A37: 1928 - 1929 | B37: Douglas I. McKay | C37: Westchester
A38: 1929 - 1930 | B38: John J. Bennett | C38: Kings
A39: 1930 - 1931 | B39: Edward J. Neary | C39: Nassau
A40: 1931 - 1932 | B40: Moses G. Hubbard | C40: Oneida
... A118: 2019 - 2021 | B118: Michael McDermott | C118: Cortland

Sheet Important Dates
A1: The American Legion Department of New York
A2: 2026 - 2027 Directory
A3: Department Important Dates
A4: Event | B4: Location | C4: Dates
A5: National Commander's Visits - Fall | B5: Districts 5, 6, 7, 8 | C5: October 8 - 11, 2026
A6: Mid-Winter Conference | B6: Albany, NY | C6: January 15 - 17, 2027
A7: Oratorical Contest & Banquet | B7: Albany, NY | C7: March 5 - 6, 2027
A8: Oratorical Snow Dates | C8: March 12 - 13, 2027
A9: National Commander's Visits - Spring | B9: Districts 3&4, 1, 2, 9, 10 | C9: April 7 - 10, 2027
A10: Bowling Tournament | B10: TBD | C10: TBD
A11: American Legion DNY Homecoming | B11: TBD | C11: TBD
A12: American Legion College | B12: SUNY Morisville | C12: June 4 - 6, 2027
A13: American Legion Boys' State | B13: SUNY Morisville | C13: June 26 - July 1, 2027
A14: Department Convention | B14: Syracuse, NY | C14: July 14 - 17, 2027
A15: Golf Tournament | B15: TBD | C15: August 6, 2027
A16: National Important Dates
A17: Event | B17: Location | C17: Dates
A18: National Fall Meetings | B18: Indianapolis, IN | C18: October 5 - 8, 2026
A19: Washington Conference | C19: February 28 - March 3, 2027
A20: National Spring Meetings | B20: Indianapolis, IN | C20: May 3 - 6, 2027
A21: National Oratorical Contest Finals | B21: Hiilsdale College, IL | C21: May 14 - 16, 2027
A22: American Legion Boys' Nation | B22: Washington, DC | C22: July 18 - 24, 2027
A23: Jr Shooting Sports National Chamionship | B23: Hillsdale College, MI | C23: July 20 - 25, 2027
A24: National Membership Workshop | C24: July 30 - 31, 2027
A25: American Legion Baseball World Series | B25: Shelby, NC | C25: August 8 - 14, 2027
A26: American Legion Legacy Run | C26: August 22 - 26, 2027
A27: National Convention | B27: Kansas City, MO | C27: August 27 - September 2, 2027
A28: Combined Americanism Conference | C28: September 17 - 19, 2027
A29: National Fall Meetings | B29: Indianapolis, IN | C29: October 4 - 7, 2027
A30: National American Legion College | C30: November 14 - 19, 2027
A31: Department Holidays - Department HQ Closed
A32: Holiday | B32: Dates Closed
A33: Labor Day | B33: 46272
A34: Columbus Day | B34: 46307
A35: Veterans' Day | B35: 46337
A36: Thanksgiving | B36: November 26 - 27, 2026
A37: Christmas | B37: December 23 - 25, 2026
A38: New Year's Eve | B38: December 30 - 31, 2026
A39: New Year's Day | B39: 46388
A40: Martin Luther King Day | B40: 46405
...

Sheet SOOTY
A1: The American Legion Department of New York
A2: 2026 - 2027 Directory
A3: Service Officer of the Year Award Winners
A4: Year | B4: Service Officer | C4: Post | D4: County | E4: District
A5: 1998 | B5: Robert G. Mitchell | C5: Adirondack Post 70 | D5: Saratoga | E5: 4th
A6: 1999 | B6: Edward L. Mazzochi | C6: Argyle Post 1518 | D6: Washington | E6: 4th
A7: 2000 | B7: Derek M. Davey | C7: Beaver River Memorial Post 1663 | D7: Lewis | E7: 5th
A8: 2001 | B8: Warren J. Manor | C8: Plattsburgh Post 20 | D8: Clinton | E8: 4th
A9: 2002 | B9: Jerold A. Klein | C9: Northport Post 694 | D9: Suffolk | E9: 10th
A10: 2003 | B10: Robert B. Whitbeck | C10: Greenville Post 291 | D10: Greene | E10: 3rd
A11: 2004 | B11: Franklin E. Tower | C11: Butts-Clark Post 204 | D11: Orleans | E11: 8th
A12: 2005 | B12: James A. Carra | C12: James Cooke Post 931 | D12: Ontario | E12: 7th
A13: 2006 | B13: Albert D. Ramsey | C13: Frank A. Rea Post 1163 | D13: Westchester | E13: 9th
A14: 2007 | B14: John B. Sampson | C14: Hughes-Skiba Post 535 | D14: Cattaraugus | E14: 8th
A15: 2008 | B15: P. Earle Gleason | C15: Johnson-Costello Post 355 | D15: Yates | E15: 7th
A16: 2009 | B16: Ronald Romaszka | C16: Wilson Ritch Post 432 | D16: Suffolk | E16: 10th
... A33: 2026 | B33: Steve McCord | C33: Hughes-Skiba Post 535 | D33: Cattaraugus | E33: 8th

Sheet LOTY
A1: The American Legion Department of New York
A2: 2026 - 2027 Directory
A3: Legionnaire of the Year Award Winners
A4: Year | B4: Service Officer | C4: Post | D4: County | E4: District
A5: 1981 | B5: Donald Heath | C5: Honeyford Memorial Post 110 | D5: Greene | E5: 3rd
A6: 1982 | B6: Estelle Mohr | C6: Staten Island Women's Post 1598 | D6: Richmond | E6: 2nd
A7: 1983 | B7: Edward Lawrence | C7: Kirk-Casey Post 366 | D7: Seneca | E7: 7th
A8: 1984 | B8: James A. Capasso | C8: Henry Cornell Post 234 | D8: Saratoga | E8: 4th
A9: 1985 | B9: Howard Bushart | C9: Williamson Post 394 | D9: Wayne | E9: 7th
A10: 1986 | B10: Frederick C. Schmaling | C10: Port Chester Post 93 | D10: Westchester | E10: 9th
A11: 1987 | B11: Levi Bentley | C11: Johnson-Costello Post 355 | D11: Yates | E11: 7th
A12: 1988 | B12: David Ossman | C12: Leo Laders Post 130 | D12: Rockland | E12: 9th
A13: 1989 | B13: Vincent J. Tripi | C13: Harvey L. Brady Post 354 | D13: Livingston | E13: 7th
A14: 1990 | B14: Albert A. Sheldrake | C14: Medos A. Nelson Post 504 | D14: Clinton | E14: 4th
A15: 1991 | B15: Helen G. Jacob | C15: Erieco Women's Post 1586 | D15: Erie | E15: 8th
A16: 1992 | B16: Francis R. Tripi | C16: Harvey L. Brady Post 354 | D16: Livingston | E16: 7th
... A50: 2026 | B50: Thomas Fisher | C50: Hudson, Inc. Post 184 | D50: Columbia | E50: 3rd

Sheet Information Links
A1: The American Legion Department of New York
A2: 2026 - 2027 Directory
A3: For Further Information, Plase Click the Link Below
A4: Information | B4: Link
A5: 2026 - 2027 Department Visitation Calender | B5: 26-27 Dept Visitation Calendar
A7: SAL Detachment of New York Website | B7: Detachment of New York Sons of The American Legion
A9: ALA Department of New York Website | B9: American Legion Auxiliary | Department of New York
A11: National American Legion Website | B11: www.legion.org
A13: Boys' State of New York Website | B13: boysstateny.org
